BEGIN:VCALENDAR
VERSION:2.0
PRODID:-//USIM LIBRARY - ECPv4.9.4//NONSGML v1.0//EN
CALSCALE:GREGORIAN
METHOD:PUBLISH
X-WR-CALNAME:USIM LIBRARY
X-ORIGINAL-URL:http://lib.usim.edu.my
X-WR-CALDESC:Events for USIM LIBRARY
BEGIN:VTIMEZONE
TZID:"Asia/Kuala_Lumpur"
BEGIN:STANDARD
TZOFFSETFROM:+0800
TZOFFSETTO:+0800
TZNAME:+08
DTSTART:20200101T000000
END:STANDARD
END:VTIMEZONE
BEGIN:VEVENT
DTSTART;VALUE=DATE:20200709
DTEND;VALUE=DATE:20200710
DTSTAMP:20260420T080127
CREATED:20200116T112706Z
LAST-MODIFIED:20200116T112706Z
UID:5438-1594252800-1594339199@lib.usim.edu.my
SUMMARY:Seronoknya Membaca
DESCRIPTION:
URL:http://lib.usim.edu.my/kalendar/seronoknya-membaca-2/
END:VEVENT
END:VCALENDAR