BEGIN:VCALENDAR
VERSION:2.0
PRODID:-//USIM LIBRARY - ECPv4.9.4//NONSGML v1.0//EN
CALSCALE:GREGORIAN
METHOD:PUBLISH
X-WR-CALNAME:USIM LIBRARY
X-ORIGINAL-URL:http://lib.usim.edu.my
X-WR-CALDESC:Events for USIM LIBRARY
BEGIN:VTIMEZONE
TZID:"Asia/Kuala_Lumpur"
BEGIN:STANDARD
TZOFFSETFROM:+0800
TZOFFSETTO:+0800
TZNAME:+08
DTSTART:20200101T000000
END:STANDARD
END:VTIMEZONE
BEGIN:VEVENT
DTSTART;VALUE=DATE:20200228
DTEND;VALUE=DATE:20200229
DTSTAMP:20260422T122140
CREATED:20200116T111753Z
LAST-MODIFIED:20200116T111753Z
UID:5397-1582848000-1582934399@lib.usim.edu.my
SUMMARY:Perkongsian Ilmu 2 – Silaturahim Klinik Solat Siri ke 2
DESCRIPTION:
URL:http://lib.usim.edu.my/kalendar/perkongsian-ilmu-2-silaturahim-klinik-solat-siri-ke-2/
END:VEVENT
END:VCALENDAR