BEGIN:VCALENDAR
VERSION:2.0
PRODID:-//USIM LIBRARY - ECPv4.9.4//NONSGML v1.0//EN
CALSCALE:GREGORIAN
METHOD:PUBLISH
X-WR-CALNAME:USIM LIBRARY
X-ORIGINAL-URL:http://lib.usim.edu.my
X-WR-CALDESC:Events for USIM LIBRARY
BEGIN:VTIMEZONE
TZID:"Asia/Kuala_Lumpur"
BEGIN:STANDARD
TZOFFSETFROM:+0800
TZOFFSETTO:+0800
TZNAME:+08
DTSTART:20200101T000000
END:STANDARD
END:VTIMEZONE
BEGIN:VEVENT
DTSTART;VALUE=DATE:20200117
DTEND;VALUE=DATE:20200118
DTSTAMP:20260423T174215
CREATED:20200116T110701Z
LAST-MODIFIED:20200116T110850Z
UID:5388-1579219200-1579305599@lib.usim.edu.my
SUMMARY:Perkongsian Ilmu 1– Info Sihat – Kesihatan Pekerjaan
DESCRIPTION:
URL:http://lib.usim.edu.my/kalendar/perkongsian-ilmu-1-info-sihat-kesihatan-pekerjaan/
END:VEVENT
END:VCALENDAR