BEGIN:VCALENDAR
VERSION:2.0
PRODID:-//USIM LIBRARY - ECPv4.9.4//NONSGML v1.0//EN
CALSCALE:GREGORIAN
METHOD:PUBLISH
X-WR-CALNAME:USIM LIBRARY
X-ORIGINAL-URL:http://lib.usim.edu.my
X-WR-CALDESC:Events for USIM LIBRARY
BEGIN:VTIMEZONE
TZID:"Asia/Kuala_Lumpur"
BEGIN:STANDARD
TZOFFSETFROM:+0800
TZOFFSETTO:+0800
TZNAME:+08
DTSTART:20190101T000000
END:STANDARD
END:VTIMEZONE
BEGIN:VEVENT
DTSTART;VALUE=DATE:20191023
DTEND;VALUE=DATE:20191024
DTSTAMP:20260424T215654
CREATED:20191018T001205Z
LAST-MODIFIED:20191018T001205Z
UID:5229-1571788800-1571875199@lib.usim.edu.my
SUMMARY:Library Client's Day
DESCRIPTION:
URL:http://lib.usim.edu.my/kalendar/library-clients-day/
END:VEVENT
END:VCALENDAR