BEGIN:VCALENDAR
VERSION:2.0
PRODID:-//USIM LIBRARY - ECPv4.9.4//NONSGML v1.0//EN
CALSCALE:GREGORIAN
METHOD:PUBLISH
X-WR-CALNAME:USIM LIBRARY
X-ORIGINAL-URL:http://lib.usim.edu.my
X-WR-CALDESC:Events for USIM LIBRARY
BEGIN:VTIMEZONE
TZID:"Asia/Kuala_Lumpur"
BEGIN:STANDARD
TZOFFSETFROM:+0800
TZOFFSETTO:+0800
TZNAME:+08
DTSTART:20220101T000000
END:STANDARD
END:VTIMEZONE
BEGIN:VEVENT
DTSTART;TZID="Asia/Kuala_Lumpur":20220527T143000
DTEND;TZID="Asia/Kuala_Lumpur":20220527T170000
DTSTAMP:20260420T102643
CREATED:20220513T042010Z
LAST-MODIFIED:20220513T042010Z
UID:8040-1653661800-1653670800@lib.usim.edu.my
SUMMARY:Perkongsian Ilmu 5/2022 -Jom Kongsi Maklumat dengan Infografik
DESCRIPTION:
URL:http://lib.usim.edu.my/kalendar/perkongsian-ilmu-5-2022-jom-kongsi-maklumat-dengan-infografik/
END:VEVENT
END:VCALENDAR