BEGIN:VCALENDAR
VERSION:2.0
PRODID:-//USIM LIBRARY - ECPv4.9.4//NONSGML v1.0//EN
CALSCALE:GREGORIAN
METHOD:PUBLISH
X-WR-CALNAME:USIM LIBRARY
X-ORIGINAL-URL:http://lib.usim.edu.my
X-WR-CALDESC:Events for USIM LIBRARY
BEGIN:VTIMEZONE
TZID:"Asia/Kuala_Lumpur"
BEGIN:STANDARD
TZOFFSETFROM:+0800
TZOFFSETTO:+0800
TZNAME:+08
DTSTART:20200101T000000
END:STANDARD
END:VTIMEZONE
BEGIN:VEVENT
DTSTART;VALUE=DATE:20200909
DTEND;VALUE=DATE:20200910
DTSTAMP:20260420T025752
CREATED:20200116T112446Z
LAST-MODIFIED:20200116T112446Z
UID:5426-1599609600-1599695999@lib.usim.edu.my
SUMMARY:Biblioterapi Bersama Siti Nordiana “Life Goes On”
DESCRIPTION:
URL:http://lib.usim.edu.my/kalendar/biblioterapi-bersama-siti-nordiana-life-goes-on/
END:VEVENT
END:VCALENDAR