BEGIN:VCALENDAR
VERSION:2.0
PRODID:-//USIM LIBRARY - ECPv4.9.4//NONSGML v1.0//EN
CALSCALE:GREGORIAN
METHOD:PUBLISH
X-WR-CALNAME:USIM LIBRARY
X-ORIGINAL-URL:http://lib.usim.edu.my
X-WR-CALDESC:Events for USIM LIBRARY
BEGIN:VTIMEZONE
TZID:"Asia/Kuala_Lumpur"
BEGIN:STANDARD
TZOFFSETFROM:+0800
TZOFFSETTO:+0800
TZNAME:+08
DTSTART:20200101T000000
END:STANDARD
END:VTIMEZONE
BEGIN:VEVENT
DTSTART;VALUE=DATE:20200509
DTEND;VALUE=DATE:20200513
DTSTAMP:20260422T091826
CREATED:20200116T112112Z
LAST-MODIFIED:20200116T112112Z
UID:5412-1588982400-1589327999@lib.usim.edu.my
SUMMARY:Pameran Tokoh-tokoh Pendidikan Negara
DESCRIPTION:
URL:http://lib.usim.edu.my/kalendar/pameran-tokoh-tokoh-pendidikan-negara/
END:VEVENT
END:VCALENDAR