BEGIN:VCALENDAR
VERSION:2.0
PRODID:-//USIM LIBRARY - ECPv4.9.4//NONSGML v1.0//EN
CALSCALE:GREGORIAN
METHOD:PUBLISH
X-WR-CALNAME:USIM LIBRARY
X-ORIGINAL-URL:http://lib.usim.edu.my
X-WR-CALDESC:Events for USIM LIBRARY
BEGIN:VTIMEZONE
TZID:"Asia/Kuala_Lumpur"
BEGIN:STANDARD
TZOFFSETFROM:+0800
TZOFFSETTO:+0800
TZNAME:+08
DTSTART:20200101T000000
END:STANDARD
END:VTIMEZONE
BEGIN:VEVENT
DTSTART;VALUE=DATE:20200320
DTEND;VALUE=DATE:20200321
DTSTAMP:20260422T135730
CREATED:20200116T111945Z
LAST-MODIFIED:20200117T080719Z
UID:5405-1584662400-1584748799@lib.usim.edu.my
SUMMARY:USIM 2020 Path to Academic Excellence Talk Series oleh Prof Mohammad Hamiruce Marhaban (TNC PI USIM)
DESCRIPTION:
URL:http://lib.usim.edu.my/kalendar/usim-2020-path-to-academic-excellence-talk-series-oleh-prof-mohammad-hamiruce-marhaban-tnc-pi-usim/
END:VEVENT
END:VCALENDAR