BEGIN:VCALENDAR
VERSION:2.0
PRODID:-//USIM LIBRARY - ECPv4.9.4//NONSGML v1.0//EN
CALSCALE:GREGORIAN
METHOD:PUBLISH
X-WR-CALNAME:USIM LIBRARY
X-ORIGINAL-URL:http://lib.usim.edu.my
X-WR-CALDESC:Events for USIM LIBRARY
BEGIN:VTIMEZONE
TZID:"Asia/Kuala_Lumpur"
BEGIN:STANDARD
TZOFFSETFROM:+0800
TZOFFSETTO:+0800
TZNAME:+08
DTSTART:20200101T000000
END:STANDARD
END:VTIMEZONE
BEGIN:VEVENT
DTSTART;TZID="Asia/Kuala_Lumpur":20200310T100000
DTEND;TZID="Asia/Kuala_Lumpur":20200310T170000
DTSTAMP:20260422T140543
CREATED:20200304T004221Z
LAST-MODIFIED:20200304T004221Z
UID:5513-1583834400-1583859600@lib.usim.edu.my
SUMMARY:SESI LATIHAN LEXIS MALAYSIA & CLJ LAW
DESCRIPTION:
URL:http://lib.usim.edu.my/kalendar/sesi-latihan-lexis-malaysia-clj-law/
LOCATION:Bilik Seminar Perpustakaan\, Perpustakaan USIM\, Bandar Baru Nilai\, 71800\, Malaysia
END:VEVENT
END:VCALENDAR