BEGIN:VCALENDAR
VERSION:2.0
PRODID:-//USIM LIBRARY - ECPv4.9.4//NONSGML v1.0//EN
CALSCALE:GREGORIAN
METHOD:PUBLISH
X-WR-CALNAME:USIM LIBRARY
X-ORIGINAL-URL:http://lib.usim.edu.my
X-WR-CALDESC:Events for USIM LIBRARY
BEGIN:VTIMEZONE
TZID:"Asia/Kuala_Lumpur"
BEGIN:STANDARD
TZOFFSETFROM:+0800
TZOFFSETTO:+0800
TZNAME:+08
DTSTART:20190101T000000
END:STANDARD
END:VTIMEZONE
BEGIN:VEVENT
DTSTART;VALUE=DATE:20190819
DTEND;VALUE=DATE:20190928
DTSTAMP:20260424T215805
CREATED:20190219T114936Z
LAST-MODIFIED:20190219T115854Z
UID:4811-1566172800-1569628799@lib.usim.edu.my
SUMMARY:Pertandingan Lensa Kreatif
DESCRIPTION:
URL:http://lib.usim.edu.my/kalendar/pertandingan-lensa-kreatif/
CATEGORIES:iqra
END:VEVENT
BEGIN:VEVENT
DTSTART;VALUE=DATE:20190826
DTEND;VALUE=DATE:20190915
DTSTAMP:20260424T215805
CREATED:20190219T103225Z
LAST-MODIFIED:20190219T103225Z
UID:4809-1566777600-1568505599@lib.usim.edu.my
SUMMARY:Pameran 2.0
DESCRIPTION:
URL:http://lib.usim.edu.my/kalendar/pameran-2-0/
CATEGORIES:iqra
END:VEVENT
END:VCALENDAR