BEGIN:VCALENDAR
VERSION:2.0
PRODID:-//USIM LIBRARY - ECPv4.9.4//NONSGML v1.0//EN
CALSCALE:GREGORIAN
METHOD:PUBLISH
X-WR-CALNAME:USIM LIBRARY
X-ORIGINAL-URL:http://lib.usim.edu.my
X-WR-CALDESC:Events for USIM LIBRARY
BEGIN:VTIMEZONE
TZID:"Asia/Kuala_Lumpur"
BEGIN:STANDARD
TZOFFSETFROM:+0800
TZOFFSETTO:+0800
TZNAME:+08
DTSTART:20190101T000000
END:STANDARD
END:VTIMEZONE
BEGIN:VEVENT
DTSTART;VALUE=DATE:20190318
DTEND;VALUE=DATE:20190323
DTSTAMP:20260425T103826
CREATED:20190219T083945Z
LAST-MODIFIED:20190219T101932Z
UID:4790-1552867200-1553299199@lib.usim.edu.my
SUMMARY:Minggu Informasi Pangkalan Data 1.0
DESCRIPTION:
URL:http://lib.usim.edu.my/kalendar/minggu-informasi-pangkalan-data-1-0/
CATEGORIES:iqra
END:VEVENT
END:VCALENDAR