BEGIN:VCALENDAR
VERSION:2.0
PRODID:-//USIM LIBRARY - ECPv4.9.4//NONSGML v1.0//EN
CALSCALE:GREGORIAN
METHOD:PUBLISH
X-WR-CALNAME:USIM LIBRARY
X-ORIGINAL-URL:http://lib.usim.edu.my
X-WR-CALDESC:Events for USIM LIBRARY
BEGIN:VTIMEZONE
TZID:"Asia/Kuala_Lumpur"
BEGIN:STANDARD
TZOFFSETFROM:+0800
TZOFFSETTO:+0800
TZNAME:+08
DTSTART:20180101T000000
END:STANDARD
END:VTIMEZONE
BEGIN:VEVENT
DTSTART;TZID="Asia/Kuala_Lumpur":20181011T080000
DTEND;TZID="Asia/Kuala_Lumpur":20181011T170000
DTSTAMP:20260425T190934
CREATED:20181002T033659Z
LAST-MODIFIED:20181002T033721Z
UID:3951-1539244800-1539277200@lib.usim.edu.my
SUMMARY:Pembentangan Pembangunan Laman Web
DESCRIPTION:
URL:http://lib.usim.edu.my/kalendar/pembantangan-pembangunan-laman-web/
LOCATION:Bilik Mesyuarat Stracoom
END:VEVENT
END:VCALENDAR