BEGIN:VCALENDAR
VERSION:2.0
PRODID:-//USIM LIBRARY - ECPv4.9.4//NONSGML v1.0//EN
CALSCALE:GREGORIAN
METHOD:PUBLISH
X-WR-CALNAME:USIM LIBRARY
X-ORIGINAL-URL:http://lib.usim.edu.my
X-WR-CALDESC:Events for USIM LIBRARY
BEGIN:VTIMEZONE
TZID:"Asia/Kuala_Lumpur"
BEGIN:STANDARD
TZOFFSETFROM:+0800
TZOFFSETTO:+0800
TZNAME:+08
DTSTART:20190101T000000
END:STANDARD
END:VTIMEZONE
BEGIN:VEVENT
DTSTART;TZID="Asia/Kuala_Lumpur":20190927T150000
DTEND;TZID="Asia/Kuala_Lumpur":20190927T170000
DTSTAMP:20260424T234212
CREATED:20190219T115516Z
LAST-MODIFIED:20190219T115528Z
UID:4815-1569596400-1569603600@lib.usim.edu.my
SUMMARY:Sesi Perkongsian Ilmu 2.0
DESCRIPTION:
URL:http://lib.usim.edu.my/kalendar/11-sesi-perkongsian-ilmu-2-0/
CATEGORIES:iqra
END:VEVENT
END:VCALENDAR